BEGIN:VCALENDAR
VERSION:2.0
PRODID:-// - ECPv6.15.20//NONSGML v1.0//EN
CALSCALE:GREGORIAN
METHOD:PUBLISH
X-ORIGINAL-URL:https://rightnow.events
X-WR-CALDESC:Events for 
REFRESH-INTERVAL;VALUE=DURATION:PT1H
X-Robots-Tag:noindex
X-PUBLISHED-TTL:PT1H
BEGIN:VTIMEZONE
TZID:America/Los_Angeles
BEGIN:DAYLIGHT
TZOFFSETFROM:-0800
TZOFFSETTO:-0700
TZNAME:PDT
DTSTART:20210314T100000
END:DAYLIGHT
BEGIN:STANDARD
TZOFFSETFROM:-0700
TZOFFSETTO:-0800
TZNAME:PST
DTSTART:20211107T090000
END:STANDARD
BEGIN:DAYLIGHT
TZOFFSETFROM:-0800
TZOFFSETTO:-0700
TZNAME:PDT
DTSTART:20220313T100000
END:DAYLIGHT
BEGIN:STANDARD
TZOFFSETFROM:-0700
TZOFFSETTO:-0800
TZNAME:PST
DTSTART:20221106T090000
END:STANDARD
BEGIN:DAYLIGHT
TZOFFSETFROM:-0800
TZOFFSETTO:-0700
TZNAME:PDT
DTSTART:20230312T100000
END:DAYLIGHT
BEGIN:STANDARD
TZOFFSETFROM:-0700
TZOFFSETTO:-0800
TZNAME:PST
DTSTART:20231105T090000
END:STANDARD
BEGIN:DAYLIGHT
TZOFFSETFROM:-0800
TZOFFSETTO:-0700
TZNAME:PDT
DTSTART:20240310T100000
END:DAYLIGHT
BEGIN:STANDARD
TZOFFSETFROM:-0700
TZOFFSETTO:-0800
TZNAME:PST
DTSTART:20241103T090000
END:STANDARD
END:VTIMEZONE
BEGIN:VEVENT
DTSTART;TZID=America/Los_Angeles:20231220T180000
DTEND;TZID=America/Los_Angeles:20231220T220000
DTSTAMP:20260420T154112
CREATED:20231207T021705Z
LAST-MODIFIED:20231207T021707Z
UID:1352-1703095200-1703109600@rightnow.events
SUMMARY:CANDLELIGHT: HOLIDAY SPECIAL FEATURING “THE NUTCRACKER” & MORE
DESCRIPTION:⭐ Candlelight concerts bring the magic of a live\, multi-sensory musical experience to awe-inspiring locations like never seen before in Las Vegas. Get your tickets now to discover the music of The Nutcracker and More at The Industrial under the gentle glow of candlelight.
URL:https://rightnow.events/event/candlelight-holiday-special-featuring-the-nutcracker-more/
LOCATION:The Industrial Event Space\, 2330 Industrial Road\, Nevada\, 89102\, United States
CATEGORIES:Music,Shows
ATTACH;FMTTYPE=image/png:https://rightnow.events/wp-content/uploads/2023/12/ScreenShot2023-02-08at12.19.08PM.png
END:VEVENT
BEGIN:VEVENT
DTSTART;TZID=America/Los_Angeles:20230111T190000
DTEND;TZID=America/Los_Angeles:20230111T223000
DTSTAMP:20260420T154112
CREATED:20230109T070325Z
LAST-MODIFIED:20230109T070325Z
UID:848-1673463600-1673476200@rightnow.events
SUMMARY:Henderson Silver Knights vs Ontario Reign
DESCRIPTION:
URL:https://rightnow.events/event/henderson-silver-knights-vs-ontario-reign/
LOCATION:The Dollar Loan Center\, 200 South Green Valley Parkway\, Henderson\, NV\, 89012\, United States
CATEGORIES:Shows
ATTACH;FMTTYPE=image/png:https://rightnow.events/wp-content/uploads/2023/01/hsk-thumb-e1673247760564.png
END:VEVENT
BEGIN:VEVENT
DTSTART;TZID=America/Los_Angeles:20220812T193000
DTEND;TZID=America/Los_Angeles:20220812T220000
DTSTAMP:20260420T154112
CREATED:20220711T194452Z
LAST-MODIFIED:20220711T194452Z
UID:480-1660332600-1660341600@rightnow.events
SUMMARY:Zane Lamprey Comedy Tour
DESCRIPTION:Zane Lamprey is constantly being told that he has the best job in the world. For over a decade\, Zane has had the enviable job of hosting Three Sheets\, Drinking Made Easy\, Chug and Four Sheets\, where he traveled the globe\, learning about different cultures by sampling libations with the locals. As the most well-known personality in the ‘travel and drink space’ Zane has built an empire around his brand\, a legion of dedicated fans\, and the reputation as a personality that people trust. As a regular speaker\, beverage judge\, and author of the book: 6 Continents\, 15 Countries\, 190 drinks and 1 Mean Hangover\, published by Random House\, Zane is an expert in all things booze. Zane is the CEO and founder of Adv3nture\, a clothing brand which produces premium travel apparel. The “3” in Adv3nture represents the three trees that the company plants with every product sold. Zane is headlining his third stand up comedy tour beginning in June of 2021.\n\nVenue & Event Info:\n\nRoom: Music Hall Ages: 21 years and older With Valid Photo ID Support: TBA Special Offers: Complimentary admission to Foundation Room before or after the show with your show tickets. Valid on show day only. Must be 21+. Dress code enforced. Parking: Details and pricing available at: MandalayBay.com Join us for dinner and drinks before the show at our House of Blues Restaurant & Bar\, make a reservation at HouseofBlues.com/LasVegas or enjoy the flipside of House of Blues at B Side for a little edgier\, a little rowdier gastrolounge cuisine and cocktails experience\, learn more at: HouseofBlues.com/LasVegas/BSide Additional Details: All support acts are subject to change without notice. Valid photo I.D. is required to gain entry to the venue for shows that are 21+\, it is the patron”s responsibility to check and abide by posted age limits when purchasing tickets. No professional cameras\, & studded belts or jewelry \n 
URL:https://rightnow.events/event/zane-lamprey-comedy-tour/
LOCATION:House of Blues Las Vegas\, 3950 Las Vegas Blvd\, Las Vegas\, NV\, 89119\, United States
CATEGORIES:Shows
ATTACH;FMTTYPE=image/jpeg:https://rightnow.events/wp-content/uploads/2022/07/RG__HOBLasVegas_0812_ZaneLamprey_SG_1080x1080-4-1080x1080.jpg
END:VEVENT
BEGIN:VEVENT
DTSTART;TZID=America/Los_Angeles:20220717T190500
DTEND;TZID=America/Los_Angeles:20220717T223000
DTSTAMP:20260420T154112
CREATED:20220716T062323Z
LAST-MODIFIED:20220716T062323Z
UID:530-1658084700-1658097000@rightnow.events
SUMMARY:Salt Lake Bee vs. Las Vegas Aviators
DESCRIPTION:
URL:https://rightnow.events/event/salt-lake-bee-vs-las-vegas-aviators/
LOCATION:Las Vegas Ballpark
CATEGORIES:Shows
ATTACH;FMTTYPE=image/jpeg:https://rightnow.events/wp-content/uploads/2022/07/download-2-225x225.jpg
END:VEVENT
BEGIN:VEVENT
DTSTART;TZID=America/Los_Angeles:20220716T190500
DTEND;TZID=America/Los_Angeles:20220716T223000
DTSTAMP:20260420T154112
CREATED:20220716T062057Z
LAST-MODIFIED:20220716T062144Z
UID:524-1657998300-1658010600@rightnow.events
SUMMARY:Salt Lake Bees vs. Las Vegas Aviators
DESCRIPTION:Promotion: Aviators Jersey Night \n\n\n\n\n\n\nThe Aviators will host the Salt Lake Bees\, Triple-A affiliate of the Los Angeles Angels\, at Las Vegas Ballpark. | 2\,000
URL:https://rightnow.events/event/salt-lake-bees-vs-las-vegas-aviators/
LOCATION:Las Vegas Ballpark
CATEGORIES:Shows
ATTACH;FMTTYPE=image/jpeg:https://rightnow.events/wp-content/uploads/2022/07/download-2-225x225.jpg
END:VEVENT
BEGIN:VEVENT
DTSTART;TZID=America/Los_Angeles:20220622T170000
DTEND;TZID=America/Los_Angeles:20220624T210000
DTSTAMP:20260420T154112
CREATED:20220623T014845Z
LAST-MODIFIED:20220623T015012Z
UID:288-1655917200-1656104400@rightnow.events
SUMMARY:Star Wars Art Con
DESCRIPTION:3 Days Only! Fri July 22 5-9 pm\, Sat & Sun 12-6 pm\nFREE 8″x10″ Print by sharing this event or posting it on your news feed & inRightNow.Eventsvite your friends!\nSee Eventbrite link for full details at https://www.eventbrite.com/…/free-star-wars-art-con-las…\nFeaturing the Art of:\n-STAR WARS\n-DISNEY\n-ANIME\n-MARVEL\n-HARRY POTTER\n-LORD OF THE RINGS\n-DnD FANTASY DRAGON ART\nSave 25% Off All pre-purchased Artwork now until July 22nd on AmazingArtExpo.com\, iamparodyart.com\, dominicglover.com & meganwithey.com. Type AMAZINGSHOW in the discount code during checkout to redeem.\nMeet Nationally Recognized Artists Christopher Clark\, Dominic Glover & Megan Withey who will be signing and adding paint highlights and embellishments to their purchased artwork at no additional charge\, turning each piece into a one of a kind original.\nThere will be multiple exhibits of Star Wars\, Disney\, Anime\, Marvel\, Lord of the Rings\, Harry Potter & parody art on display & available for purchase\, featuring a variety of artists. Prints\, Canvases & Original oil on canvas paintings will be available for purchase.\nAll Princesses\, Princes\, Jedi\, Superheroes & wizards of all ages are welcome to attend.\nKid & Stroller Friendly
URL:https://rightnow.events/event/star-wars-art-con/
LOCATION:Plaza Hotel & Casino\, 1 Main Street\, Las Vegas\, NV\, 89101\, United States
CATEGORIES:Shows
ATTACH;FMTTYPE=image/jpeg:https://rightnow.events/wp-content/uploads/2022/06/183731479_107860511467085_7703842331655161196_n-960x704.jpg
END:VEVENT
BEGIN:VEVENT
DTSTART;TZID=America/Los_Angeles:20220618T220000
DTEND;TZID=America/Los_Angeles:20220618T230000
DTSTAMP:20260420T154112
CREATED:20220618T164616Z
LAST-MODIFIED:20220618T164616Z
UID:142-1655589600-1655593200@rightnow.events
SUMMARY:Delirious Comedy Club
DESCRIPTION:Delirious Comedy Club brings you some of the funniest\, top headlining comedians from across the globe. You may have seen them on The Tonight Show\, HBO\, Netflix\, Conan\, Bob & Tom\, Comedy Central\, Late Night\, BET\, Showtime\, Howard Stern\, Youtube\, Amazon\, USO Tours entertaining the troops and more\, as well as showcasing the next generation of comedy stars. \nIf you’re looking for night of laughter\, then you’ve come to the right place!
URL:https://rightnow.events/event/delirious-comedy-club/
LOCATION:Downtown Grand Hotel & Casino\, 206 N. 3rd St.\, Las Vegas\, NV\, 89101\, United States
CATEGORIES:Shows
ATTACH;FMTTYPE=image/jpeg:https://rightnow.events/wp-content/uploads/2022/06/6143-300x400.jpg
END:VEVENT
END:VCALENDAR